BEGIN:VCALENDAR
VERSION:2.0
PRODID:-//John Wesley Powell River History Museum - ECPv6.15.20//NONSGML v1.0//EN
CALSCALE:GREGORIAN
METHOD:PUBLISH
X-ORIGINAL-URL:https://johnwesleypowell.com
X-WR-CALDESC:Events for John Wesley Powell River History Museum
REFRESH-INTERVAL;VALUE=DURATION:PT1H
X-Robots-Tag:noindex
X-PUBLISHED-TTL:PT1H
BEGIN:VTIMEZONE
TZID:America/Chicago
BEGIN:DAYLIGHT
TZOFFSETFROM:-0600
TZOFFSETTO:-0500
TZNAME:CDT
DTSTART:20240310T080000
END:DAYLIGHT
BEGIN:STANDARD
TZOFFSETFROM:-0500
TZOFFSETTO:-0600
TZNAME:CST
DTSTART:20241103T070000
END:STANDARD
BEGIN:DAYLIGHT
TZOFFSETFROM:-0600
TZOFFSETTO:-0500
TZNAME:CDT
DTSTART:20250309T080000
END:DAYLIGHT
BEGIN:STANDARD
TZOFFSETFROM:-0500
TZOFFSETTO:-0600
TZNAME:CST
DTSTART:20251102T070000
END:STANDARD
BEGIN:DAYLIGHT
TZOFFSETFROM:-0600
TZOFFSETTO:-0500
TZNAME:CDT
DTSTART:20260308T080000
END:DAYLIGHT
BEGIN:STANDARD
TZOFFSETFROM:-0500
TZOFFSETTO:-0600
TZNAME:CST
DTSTART:20261101T070000
END:STANDARD
BEGIN:DAYLIGHT
TZOFFSETFROM:-0600
TZOFFSETTO:-0500
TZNAME:CDT
DTSTART:20270314T080000
END:DAYLIGHT
BEGIN:STANDARD
TZOFFSETFROM:-0500
TZOFFSETTO:-0600
TZNAME:CST
DTSTART:20271107T070000
END:STANDARD
END:VTIMEZONE
BEGIN:VEVENT
DTSTART;VALUE=DATE:20250426
DTEND;VALUE=DATE:20260830
DTSTAMP:20260423T150241
CREATED:20250414T143035Z
LAST-MODIFIED:20260311T204445Z
UID:10000014-1745625600-1788047999@johnwesleypowell.com
SUMMARY:"Glen Canyon Exposed" Exhibit
DESCRIPTION:Glen Canyon Exposed: Now and Then is a landmark photographic and film exhibit by celebrated artists Dawn Kish and Tad Nichols. This unique showcase presents two perspectives of Glen Canyon: Nichols’ iconic 1950s images\, captured before the construction of Glen Canyon Dam\, and Kish’s contemporary photographs and documentary film\, chronicling the canyon’s stunning reemergence as water levels recede. \nFree entrance to the exhibit with regular museum admission. \n  \nAndy Hutchinson in his dory in front of Tapestry Wall
URL:https://johnwesleypowell.com/event/glen-canyon-exposed-exhibit/
LOCATION:John Wesley Powell River History Museum\, Green River\, UT\, 84525\, United States
ORGANIZER;CN="John Wesley Powell River History Museum":MAILTO:jwpprograms@gmail.com
END:VEVENT
BEGIN:VEVENT
DTSTART;TZID=America/Chicago:20251106T153000
DTEND;TZID=America/Chicago:20251106T163000
DTSTAMP:20260423T150241
CREATED:20250818T185349Z
LAST-MODIFIED:20251211T200526Z
UID:10000033-1762443000-1762446600@johnwesleypowell.com
SUMMARY:After-School Activities for Ages 5-12
DESCRIPTION:Join us every Thursday from 3:30pm – 4:30pm for free drop-in after-school activities for kids ages 5-12! Each session will include hands-on learning and craft activities\, virtual field trips\, or special guest visits. No activities will be held on September 25 or November 27 (Thanksgiving holiday). \nSome activities may be held outdoors\, so please ensure your children have a hat\, sunscreen\, and comfortable shoes! Emergency contact and allergy information will be collected at drop-off if parents or guardians decide not to remain with their children for the activities.
URL:https://johnwesleypowell.com/event/after-school-activities-for-ages-5-12/2025-11-06/
LOCATION:John Wesley Powell River History Museum\, Green River\, UT\, 84525\, United States
ORGANIZER;CN="John Wesley Powell River History Museum":MAILTO:jwpprograms@gmail.com
END:VEVENT
BEGIN:VEVENT
DTSTART;TZID=America/Chicago:20251113T153000
DTEND;TZID=America/Chicago:20251113T163000
DTSTAMP:20260423T150241
CREATED:20250818T185349Z
LAST-MODIFIED:20251211T200526Z
UID:10000034-1763047800-1763051400@johnwesleypowell.com
SUMMARY:After-School Activities for Ages 5-12
DESCRIPTION:Join us every Thursday from 3:30pm – 4:30pm for free drop-in after-school activities for kids ages 5-12! Each session will include hands-on learning and craft activities\, virtual field trips\, or special guest visits. No activities will be held on September 25 or November 27 (Thanksgiving holiday). \nSome activities may be held outdoors\, so please ensure your children have a hat\, sunscreen\, and comfortable shoes! Emergency contact and allergy information will be collected at drop-off if parents or guardians decide not to remain with their children for the activities.
URL:https://johnwesleypowell.com/event/after-school-activities-for-ages-5-12/2025-11-13/
LOCATION:John Wesley Powell River History Museum\, Green River\, UT\, 84525\, United States
ORGANIZER;CN="John Wesley Powell River History Museum":MAILTO:jwpprograms@gmail.com
END:VEVENT
BEGIN:VEVENT
DTSTART;TZID=America/Chicago:20251120T153000
DTEND;TZID=America/Chicago:20251120T163000
DTSTAMP:20260423T150241
CREATED:20250818T185349Z
LAST-MODIFIED:20251211T200526Z
UID:10000035-1763652600-1763656200@johnwesleypowell.com
SUMMARY:After-School Activities for Ages 5-12
DESCRIPTION:Join us every Thursday from 3:30pm – 4:30pm for free drop-in after-school activities for kids ages 5-12! Each session will include hands-on learning and craft activities\, virtual field trips\, or special guest visits. No activities will be held on September 25 or November 27 (Thanksgiving holiday). \nSome activities may be held outdoors\, so please ensure your children have a hat\, sunscreen\, and comfortable shoes! Emergency contact and allergy information will be collected at drop-off if parents or guardians decide not to remain with their children for the activities.
URL:https://johnwesleypowell.com/event/after-school-activities-for-ages-5-12/2025-11-20/
LOCATION:John Wesley Powell River History Museum\, Green River\, UT\, 84525\, United States
ORGANIZER;CN="John Wesley Powell River History Museum":MAILTO:jwpprograms@gmail.com
END:VEVENT
END:VCALENDAR