BEGIN:VCALENDAR
VERSION:2.0
PRODID:-//John Wesley Powell River History Museum - ECPv6.15.20//NONSGML v1.0//EN
CALSCALE:GREGORIAN
METHOD:PUBLISH
X-WR-CALNAME:John Wesley Powell River History Museum
X-ORIGINAL-URL:https://johnwesleypowell.com
X-WR-CALDESC:Events for John Wesley Powell River History Museum
REFRESH-INTERVAL;VALUE=DURATION:PT1H
X-Robots-Tag:noindex
X-PUBLISHED-TTL:PT1H
BEGIN:VTIMEZONE
TZID:America/Chicago
BEGIN:DAYLIGHT
TZOFFSETFROM:-0600
TZOFFSETTO:-0500
TZNAME:CDT
DTSTART:20240310T080000
END:DAYLIGHT
BEGIN:STANDARD
TZOFFSETFROM:-0500
TZOFFSETTO:-0600
TZNAME:CST
DTSTART:20241103T070000
END:STANDARD
BEGIN:DAYLIGHT
TZOFFSETFROM:-0600
TZOFFSETTO:-0500
TZNAME:CDT
DTSTART:20250309T080000
END:DAYLIGHT
BEGIN:STANDARD
TZOFFSETFROM:-0500
TZOFFSETTO:-0600
TZNAME:CST
DTSTART:20251102T070000
END:STANDARD
BEGIN:DAYLIGHT
TZOFFSETFROM:-0600
TZOFFSETTO:-0500
TZNAME:CDT
DTSTART:20260308T080000
END:DAYLIGHT
BEGIN:STANDARD
TZOFFSETFROM:-0500
TZOFFSETTO:-0600
TZNAME:CST
DTSTART:20261101T070000
END:STANDARD
END:VTIMEZONE
BEGIN:VEVENT
DTSTART;TZID=America/Chicago:20250308T193000
DTEND;TZID=America/Chicago:20250308T210000
DTSTAMP:20260424T011452
CREATED:20250211T171331Z
LAST-MODIFIED:20250211T171331Z
UID:10000009-1741462200-1741467600@johnwesleypowell.com
SUMMARY:Astronomy Family Night at the Museum
DESCRIPTION:Join museum and Green River State Park staff for this family-friendly event exploring the night sky! Come look through a telescope and participate in a fun\, hands-on craft activity. Admission to the event is FREE!
URL:https://johnwesleypowell.com/event/astronomy-family-night-at-the-museum/
LOCATION:John Wesley Powell River History Museum\, Green River\, UT\, 84525\, United States
ORGANIZER;CN="John Wesley Powell River History Museum":MAILTO:jwpprograms@gmail.com
END:VEVENT
BEGIN:VEVENT
DTSTART;TZID=America/Chicago:20250315T080000
DTEND;TZID=America/Chicago:20250406T170000
DTSTAMP:20260424T011452
CREATED:20250211T171659Z
LAST-MODIFIED:20250211T171819Z
UID:10000010-1742025600-1743958800@johnwesleypowell.com
SUMMARY:Green River High School Photography Exhibit
DESCRIPTION:Join the museum and Green River High School for a special exhibit showcasing unique works developed by students in Mr. Tony Herrera’s photography class. Meet with students and their families on Saturday\, March 15 at 6pm for a special opening event.
URL:https://johnwesleypowell.com/event/green-river-high-school-photography-exhibit/
LOCATION:John Wesley Powell River History Museum\, Green River\, UT\, 84525\, United States
ORGANIZER;CN="John Wesley Powell River History Museum":MAILTO:jwpprograms@gmail.com
END:VEVENT
END:VCALENDAR