BEGIN:VCALENDAR
VERSION:2.0
PRODID:-//John Wesley Powell River History Museum - ECPv6.15.20//NONSGML v1.0//EN
CALSCALE:GREGORIAN
METHOD:PUBLISH
X-ORIGINAL-URL:https://johnwesleypowell.com
X-WR-CALDESC:Events for John Wesley Powell River History Museum
REFRESH-INTERVAL;VALUE=DURATION:PT1H
X-Robots-Tag:noindex
X-PUBLISHED-TTL:PT1H
BEGIN:VTIMEZONE
TZID:America/Chicago
BEGIN:DAYLIGHT
TZOFFSETFROM:-0600
TZOFFSETTO:-0500
TZNAME:CDT
DTSTART:20240310T080000
END:DAYLIGHT
BEGIN:STANDARD
TZOFFSETFROM:-0500
TZOFFSETTO:-0600
TZNAME:CST
DTSTART:20241103T070000
END:STANDARD
BEGIN:DAYLIGHT
TZOFFSETFROM:-0600
TZOFFSETTO:-0500
TZNAME:CDT
DTSTART:20250309T080000
END:DAYLIGHT
BEGIN:STANDARD
TZOFFSETFROM:-0500
TZOFFSETTO:-0600
TZNAME:CST
DTSTART:20251102T070000
END:STANDARD
BEGIN:DAYLIGHT
TZOFFSETFROM:-0600
TZOFFSETTO:-0500
TZNAME:CDT
DTSTART:20260308T080000
END:DAYLIGHT
BEGIN:STANDARD
TZOFFSETFROM:-0500
TZOFFSETTO:-0600
TZNAME:CST
DTSTART:20261101T070000
END:STANDARD
END:VTIMEZONE
BEGIN:VEVENT
DTSTART;TZID=America/Chicago:20250224T160000
DTEND;TZID=America/Chicago:20250224T203000
DTSTAMP:20260424T023717
CREATED:20250211T172329Z
LAST-MODIFIED:20250211T172329Z
UID:10000011-1740412800-1740429000@johnwesleypowell.com
SUMMARY:Grains for Good Fundraiser at Trail Life Brewing in Grand Junction\, CO
DESCRIPTION:Didn’t get a river permit this year? Come drown your sorrows with fellow river runners at Trail Life Brewery in Grand Junction\, CO! A portion of beer sales for the night will be donated to the museum.
URL:https://johnwesleypowell.com/event/grains-for-good-fundraiser-at-trail-life-brewing-in-grand-junction-co/
ORGANIZER;CN="John Wesley Powell River History Museum":MAILTO:jwpprograms@gmail.com
END:VEVENT
END:VCALENDAR