BEGIN:VCALENDAR
VERSION:2.0
PRODID:-//John Wesley Powell River History Museum - ECPv6.15.20//NONSGML v1.0//EN
CALSCALE:GREGORIAN
METHOD:PUBLISH
X-WR-CALNAME:John Wesley Powell River History Museum
X-ORIGINAL-URL:https://johnwesleypowell.com
X-WR-CALDESC:Events for John Wesley Powell River History Museum
REFRESH-INTERVAL;VALUE=DURATION:PT1H
X-Robots-Tag:noindex
X-PUBLISHED-TTL:PT1H
BEGIN:VTIMEZONE
TZID:America/Chicago
BEGIN:DAYLIGHT
TZOFFSETFROM:-0600
TZOFFSETTO:-0500
TZNAME:CDT
DTSTART:20230312T080000
END:DAYLIGHT
BEGIN:STANDARD
TZOFFSETFROM:-0500
TZOFFSETTO:-0600
TZNAME:CST
DTSTART:20231105T070000
END:STANDARD
BEGIN:DAYLIGHT
TZOFFSETFROM:-0600
TZOFFSETTO:-0500
TZNAME:CDT
DTSTART:20240310T080000
END:DAYLIGHT
BEGIN:STANDARD
TZOFFSETFROM:-0500
TZOFFSETTO:-0600
TZNAME:CST
DTSTART:20241103T070000
END:STANDARD
BEGIN:DAYLIGHT
TZOFFSETFROM:-0600
TZOFFSETTO:-0500
TZNAME:CDT
DTSTART:20250309T080000
END:DAYLIGHT
BEGIN:STANDARD
TZOFFSETFROM:-0500
TZOFFSETTO:-0600
TZNAME:CST
DTSTART:20251102T070000
END:STANDARD
END:VTIMEZONE
BEGIN:VEVENT
DTSTART;TZID=America/Chicago:20241101T190000
DTEND;TZID=America/Chicago:20241101T190000
DTSTAMP:20260424T064434
CREATED:20241006T224308Z
LAST-MODIFIED:20241006T224504Z
UID:10000006-1730487600-1730487600@johnwesleypowell.com
SUMMARY:Outlaw Days: An Evening with Butch Cassidy
DESCRIPTION:Immerse yourself in a one-of-a-kind storytelling experience with Neal Ekker as he weaves together regional history and the life events of Butch Cassidy to imagine an encounter with the legendary outlaw in 1897 Green River.
URL:https://johnwesleypowell.com/event/outlaw-days-an-evening-with-butch-cassidy/
LOCATION:John Wesley Powell River History Museum\, Green River\, UT\, 84525\, United States
ORGANIZER;CN="John Wesley Powell River History Museum":MAILTO:jwpprograms@gmail.com
END:VEVENT
END:VCALENDAR