BEGIN:VCALENDAR
VERSION:2.0
PRODID:-//John Wesley Powell River History Museum - ECPv6.15.20//NONSGML v1.0//EN
CALSCALE:GREGORIAN
METHOD:PUBLISH
X-WR-CALNAME:John Wesley Powell River History Museum
X-ORIGINAL-URL:https://johnwesleypowell.com
X-WR-CALDESC:Events for John Wesley Powell River History Museum
REFRESH-INTERVAL;VALUE=DURATION:PT1H
X-Robots-Tag:noindex
X-PUBLISHED-TTL:PT1H
BEGIN:VTIMEZONE
TZID:America/Chicago
BEGIN:DAYLIGHT
TZOFFSETFROM:-0600
TZOFFSETTO:-0500
TZNAME:CDT
DTSTART:20230312T080000
END:DAYLIGHT
BEGIN:STANDARD
TZOFFSETFROM:-0500
TZOFFSETTO:-0600
TZNAME:CST
DTSTART:20231105T070000
END:STANDARD
BEGIN:DAYLIGHT
TZOFFSETFROM:-0600
TZOFFSETTO:-0500
TZNAME:CDT
DTSTART:20240310T080000
END:DAYLIGHT
BEGIN:STANDARD
TZOFFSETFROM:-0500
TZOFFSETTO:-0600
TZNAME:CST
DTSTART:20241103T070000
END:STANDARD
BEGIN:DAYLIGHT
TZOFFSETFROM:-0600
TZOFFSETTO:-0500
TZNAME:CDT
DTSTART:20250309T080000
END:DAYLIGHT
BEGIN:STANDARD
TZOFFSETFROM:-0500
TZOFFSETTO:-0600
TZNAME:CST
DTSTART:20251102T070000
END:STANDARD
END:VTIMEZONE
BEGIN:VEVENT
DTSTART;VALUE=DATE:20241004
DTEND;VALUE=DATE:20241006
DTSTAMP:20260423T191142
CREATED:20240816T204102Z
LAST-MODIFIED:20240816T204654Z
UID:10000005-1728000000-1728172799@johnwesleypowell.com
SUMMARY:2024 River Runner's Hall of Fame
DESCRIPTION:The Hall of Fame Selection Committee is pleased to announce the upcoming induction of river running pioneers Don and Ted Hatch; Roy Webb\, preeminent river historian and retired multimedia archivist at the University of Utah’s Marriott Library; and “the French kayakers\,” Bernard de Colmont\, Antoine de Seynes\, and Genevieve de Colmont.
URL:https://johnwesleypowell.com/event/2024-river-runners-hall-of-fame-x/
LOCATION:John Wesley Powell River History Museum\, Green River\, UT\, 84525\, United States
END:VEVENT
BEGIN:VEVENT
DTSTART;TZID=America/Chicago:20240820T173000
DTEND;TZID=America/Chicago:20240820T183000
DTSTAMP:20260423T191142
CREATED:20240702T140800Z
LAST-MODIFIED:20240816T193003Z
UID:10000004-1724175000-1724178600@johnwesleypowell.com
SUMMARY:If We Build It\, Where Will They Live?
DESCRIPTION:Join us for a discussion about the housing shortage in the City of Green River for both residents and potential newcomers. Economic investment in the area will attract workers and\nfamilies but where will they live? As a current resident\, how do you want housing to develop?
URL:https://johnwesleypowell.com/event/if-we-build-it/
LOCATION:Green River City Hall\, 460 E Main St\, Green River\, 84525\, United States
ORGANIZER;CN="John Wesley Powell River History Museum":MAILTO:jwpprograms@gmail.com
END:VEVENT
BEGIN:VEVENT
DTSTART;TZID=America/Chicago:20240713T100000
DTEND;TZID=America/Chicago:20240713T130000
DTSTAMP:20260423T191142
CREATED:20240702T135321Z
LAST-MODIFIED:20240702T140509Z
UID:10000003-1720864800-1720875600@johnwesleypowell.com
SUMMARY:Make Your Own Community
DESCRIPTION:Drop-In Family Activity with the Utah Museum of Fine Arts \nBe inspired by the houses and businesses around you to build your street\, neighborhood\, and city. What do you want your town to look like in the future? Using wood blocks and markers\, you get to design a community of your own! Bring your entire family to this activity where all the materials will be furnished to help you create a masterpiece!
URL:https://johnwesleypowell.com/event/make-your-own-community/
LOCATION:John Wesley Powell River History Museum\, Green River\, UT\, 84525\, United States
END:VEVENT
END:VCALENDAR