BEGIN:VCALENDAR
VERSION:2.0
PRODID:-//John Wesley Powell River History Museum - ECPv6.15.20//NONSGML v1.0//EN
CALSCALE:GREGORIAN
METHOD:PUBLISH
X-ORIGINAL-URL:https://johnwesleypowell.com
X-WR-CALDESC:Events for John Wesley Powell River History Museum
REFRESH-INTERVAL;VALUE=DURATION:PT1H
X-Robots-Tag:noindex
X-PUBLISHED-TTL:PT1H
BEGIN:VTIMEZONE
TZID:America/Chicago
BEGIN:DAYLIGHT
TZOFFSETFROM:-0600
TZOFFSETTO:-0500
TZNAME:CDT
DTSTART:20240310T080000
END:DAYLIGHT
BEGIN:STANDARD
TZOFFSETFROM:-0500
TZOFFSETTO:-0600
TZNAME:CST
DTSTART:20241103T070000
END:STANDARD
BEGIN:DAYLIGHT
TZOFFSETFROM:-0600
TZOFFSETTO:-0500
TZNAME:CDT
DTSTART:20250309T080000
END:DAYLIGHT
BEGIN:STANDARD
TZOFFSETFROM:-0500
TZOFFSETTO:-0600
TZNAME:CST
DTSTART:20251102T070000
END:STANDARD
BEGIN:DAYLIGHT
TZOFFSETFROM:-0600
TZOFFSETTO:-0500
TZNAME:CDT
DTSTART:20260308T080000
END:DAYLIGHT
BEGIN:STANDARD
TZOFFSETFROM:-0500
TZOFFSETTO:-0600
TZNAME:CST
DTSTART:20261101T070000
END:STANDARD
BEGIN:DAYLIGHT
TZOFFSETFROM:-0600
TZOFFSETTO:-0500
TZNAME:CDT
DTSTART:20270314T080000
END:DAYLIGHT
BEGIN:STANDARD
TZOFFSETFROM:-0500
TZOFFSETTO:-0600
TZNAME:CST
DTSTART:20271107T070000
END:STANDARD
END:VTIMEZONE
BEGIN:VEVENT
DTSTART;VALUE=DATE:20250426
DTEND;VALUE=DATE:20260830
DTSTAMP:20260423T110114
CREATED:20250414T143035Z
LAST-MODIFIED:20260311T204445Z
UID:10000014-1745625600-1788047999@johnwesleypowell.com
SUMMARY:"Glen Canyon Exposed" Exhibit
DESCRIPTION:Glen Canyon Exposed: Now and Then is a landmark photographic and film exhibit by celebrated artists Dawn Kish and Tad Nichols. This unique showcase presents two perspectives of Glen Canyon: Nichols’ iconic 1950s images\, captured before the construction of Glen Canyon Dam\, and Kish’s contemporary photographs and documentary film\, chronicling the canyon’s stunning reemergence as water levels recede. \nFree entrance to the exhibit with regular museum admission. \n  \nAndy Hutchinson in his dory in front of Tapestry Wall
URL:https://johnwesleypowell.com/event/glen-canyon-exposed-exhibit/
LOCATION:John Wesley Powell River History Museum\, Green River\, UT\, 84525\, United States
ORGANIZER;CN="John Wesley Powell River History Museum":MAILTO:jwpprograms@gmail.com
END:VEVENT
BEGIN:VEVENT
DTSTART;VALUE=DATE:20260320
DTEND;VALUE=DATE:20260322
DTSTAMP:20260423T110114
CREATED:20260108T171941Z
LAST-MODIFIED:20260214T185523Z
UID:10000090-1773964800-1774137599@johnwesleypowell.com
SUMMARY:2026 Bowline Film Festival
DESCRIPTION:The Bowline Film Festival\, held each March in Green River\, Utah in partnership with the John Wesley Powell River History Museum\, curates films that explore rivers\, landscapes\, conservation\, adventure\, and Indigenous and local cultures of the Colorado Plateau. We welcome documentaries\, narratives\, shorts\, and experimental work that deepen public understanding\, inspire stewardship of waterways and wild places\, and elevate authentic voices from the region. Programming includes screenings\, filmmaker Q&As\, museum collaborations\, educational workshops\, and river-based events. Submit your film to be part of a celebration of story\, place\, and powerful conservation-minded filmmaking.
URL:https://johnwesleypowell.com/event/2026-bowline-film-festival/
LOCATION:John Wesley Powell River History Museum\, Green River\, UT\, 84525\, United States
ORGANIZER;CN="John Wesley Powell River History Museum":MAILTO:jwpprograms@gmail.com
END:VEVENT
BEGIN:VEVENT
DTSTART;VALUE=DATE:20260410
DTEND;VALUE=DATE:20260413
DTSTAMP:20260423T110114
CREATED:20260416T151817Z
LAST-MODIFIED:20260416T151817Z
UID:10000094-1775779200-1776038399@johnwesleypowell.com
SUMMARY:2026 Green River Rocks
DESCRIPTION:Join us for a weekend of free field trips with Utah’s finest geologists\, paleontologists\, and rock art conservationists. Meet the organizations that preserve and protect our public lands while discovering a bounty of rocks and minerals from vendors at our pop-up market outside the John Wesley Powell River History Museum.
URL:https://johnwesleypowell.com/event/2026-green-river-rocks/
ORGANIZER;CN="John Wesley Powell River History Museum":MAILTO:jwpprograms@gmail.com
END:VEVENT
BEGIN:VEVENT
DTSTART;TZID=America/Chicago:20260425T130000
DTEND;TZID=America/Chicago:20260425T150000
DTSTAMP:20260423T110114
CREATED:20260416T151445Z
LAST-MODIFIED:20260416T151515Z
UID:10000093-1777122000-1777129200@johnwesleypowell.com
SUMMARY:Green River Medical Center Kite Flight Event
DESCRIPTION:Family friendly fun for all ages. Kite flying\, coloring and BBQ. Bring your own or kites will be available to color and fly! (While supplies last. Kites donated by our friends at the Green River Prevention Coalition!)
URL:https://johnwesleypowell.com/event/green-river-medical-center-kite-flight-event/
LOCATION:John Wesley Powell River History Museum\, Green River\, UT\, 84525\, United States
END:VEVENT
BEGIN:VEVENT
DTSTART;VALUE=DATE:20260505
DTEND;VALUE=DATE:20260517
DTSTAMP:20260423T110114
CREATED:20260416T151931Z
LAST-MODIFIED:20260416T151931Z
UID:10000095-1777939200-1778975999@johnwesleypowell.com
SUMMARY:Green River High School Art Exhibit
DESCRIPTION:
URL:https://johnwesleypowell.com/event/green-river-high-school-art-exhibit/
ORGANIZER;CN="John Wesley Powell River History Museum":MAILTO:jwpprograms@gmail.com
END:VEVENT
BEGIN:VEVENT
DTSTART;TZID=America/Chicago:20260509T160000
DTEND;TZID=America/Chicago:20260509T170000
DTSTAMP:20260423T110114
CREATED:20260416T151029Z
LAST-MODIFIED:20260416T151029Z
UID:10000092-1778342400-1778346000@johnwesleypowell.com
SUMMARY:Green River High School Student Art Exhibit Opening Reception
DESCRIPTION:Join us for light refreshments as we celebrate the opening of this year’s Green River High School student art exhibit!
URL:https://johnwesleypowell.com/event/green-river-high-school-student-art-exhibit-opening-reception/
END:VEVENT
BEGIN:VEVENT
DTSTART;TZID=America/Chicago:20260530T090000
DTEND;TZID=America/Chicago:20260530T100000
DTSTAMP:20260423T110114
CREATED:20260416T150502Z
LAST-MODIFIED:20260416T150502Z
UID:10000091-1780131600-1780135200@johnwesleypowell.com
SUMMARY:Outdoor Yoga + Nature Walk
DESCRIPTION:Join us for an invigorating outdoor yoga session followed by a walk along the river! Mats available. FREE! Sponsored by the Green River Medical Center.
URL:https://johnwesleypowell.com/event/outdoor-yoga-nature-walk/
LOCATION:John Wesley Powell River History Museum\, Green River\, UT\, 84525\, United States
END:VEVENT
BEGIN:VEVENT
DTSTART;TZID=America/Chicago:20260617T150000
DTEND;TZID=America/Chicago:20260617T161500
DTSTAMP:20260423T110114
CREATED:20260416T203756Z
LAST-MODIFIED:20260416T203756Z
UID:10000096-1781708400-1781712900@johnwesleypowell.com
SUMMARY:Junior River Runners Drop-In Activities for Kids
DESCRIPTION:We’re excited to announce our summer Junior River Runners program lineup! Drop-in activities will kick off on Wednesday\, June 17 and run once weekly through July 22.
URL:https://johnwesleypowell.com/event/junior-river-runners-drop-in-activities-for-kids/2026-06-17/
ORGANIZER;CN="John Wesley Powell River History Museum":MAILTO:jwpprograms@gmail.com
END:VEVENT
BEGIN:VEVENT
DTSTART;TZID=America/Chicago:20260624T150000
DTEND;TZID=America/Chicago:20260624T161500
DTSTAMP:20260423T110114
CREATED:20260416T203756Z
LAST-MODIFIED:20260416T203756Z
UID:10000097-1782313200-1782317700@johnwesleypowell.com
SUMMARY:Junior River Runners Drop-In Activities for Kids
DESCRIPTION:We’re excited to announce our summer Junior River Runners program lineup! Drop-in activities will kick off on Wednesday\, June 17 and run once weekly through July 22.
URL:https://johnwesleypowell.com/event/junior-river-runners-drop-in-activities-for-kids/2026-06-24/
ORGANIZER;CN="John Wesley Powell River History Museum":MAILTO:jwpprograms@gmail.com
END:VEVENT
BEGIN:VEVENT
DTSTART;TZID=America/Chicago:20260701T150000
DTEND;TZID=America/Chicago:20260701T161500
DTSTAMP:20260423T110114
CREATED:20260416T203756Z
LAST-MODIFIED:20260416T203756Z
UID:10000098-1782918000-1782922500@johnwesleypowell.com
SUMMARY:Junior River Runners Drop-In Activities for Kids
DESCRIPTION:We’re excited to announce our summer Junior River Runners program lineup! Drop-in activities will kick off on Wednesday\, June 17 and run once weekly through July 22.
URL:https://johnwesleypowell.com/event/junior-river-runners-drop-in-activities-for-kids/2026-07-01/
ORGANIZER;CN="John Wesley Powell River History Museum":MAILTO:jwpprograms@gmail.com
END:VEVENT
BEGIN:VEVENT
DTSTART;TZID=America/Chicago:20260708T150000
DTEND;TZID=America/Chicago:20260708T161500
DTSTAMP:20260423T110114
CREATED:20260416T203756Z
LAST-MODIFIED:20260416T203756Z
UID:10000099-1783522800-1783527300@johnwesleypowell.com
SUMMARY:Junior River Runners Drop-In Activities for Kids
DESCRIPTION:We’re excited to announce our summer Junior River Runners program lineup! Drop-in activities will kick off on Wednesday\, June 17 and run once weekly through July 22.
URL:https://johnwesleypowell.com/event/junior-river-runners-drop-in-activities-for-kids/2026-07-08/
ORGANIZER;CN="John Wesley Powell River History Museum":MAILTO:jwpprograms@gmail.com
END:VEVENT
BEGIN:VEVENT
DTSTART;TZID=America/Chicago:20260715T150000
DTEND;TZID=America/Chicago:20260715T161500
DTSTAMP:20260423T110114
CREATED:20260416T203756Z
LAST-MODIFIED:20260416T203756Z
UID:10000100-1784127600-1784132100@johnwesleypowell.com
SUMMARY:Junior River Runners Drop-In Activities for Kids
DESCRIPTION:We’re excited to announce our summer Junior River Runners program lineup! Drop-in activities will kick off on Wednesday\, June 17 and run once weekly through July 22.
URL:https://johnwesleypowell.com/event/junior-river-runners-drop-in-activities-for-kids/2026-07-15/
ORGANIZER;CN="John Wesley Powell River History Museum":MAILTO:jwpprograms@gmail.com
END:VEVENT
BEGIN:VEVENT
DTSTART;TZID=America/Chicago:20260722T150000
DTEND;TZID=America/Chicago:20260722T161500
DTSTAMP:20260423T110114
CREATED:20260416T203756Z
LAST-MODIFIED:20260416T203756Z
UID:10000101-1784732400-1784736900@johnwesleypowell.com
SUMMARY:Junior River Runners Drop-In Activities for Kids
DESCRIPTION:We’re excited to announce our summer Junior River Runners program lineup! Drop-in activities will kick off on Wednesday\, June 17 and run once weekly through July 22.
URL:https://johnwesleypowell.com/event/junior-river-runners-drop-in-activities-for-kids/2026-07-22/
ORGANIZER;CN="John Wesley Powell River History Museum":MAILTO:jwpprograms@gmail.com
END:VEVENT
BEGIN:VEVENT
DTSTART;VALUE=DATE:20261002
DTEND;VALUE=DATE:20261004
DTSTAMP:20260423T110114
CREATED:20260108T171719Z
LAST-MODIFIED:20260108T171719Z
UID:10000089-1790899200-1791071999@johnwesleypowell.com
SUMMARY:2026 River Runners Hall of Fame Festival
DESCRIPTION:Mark your calendars for Friday\, October 3\, and Saturday\, October 4 for our 2026 River Runners Hall of Fame Festival! Check our website for updates as we plan this year’s event. 
URL:https://johnwesleypowell.com/event/2026-river-runners-hall-of-fame-festival/
LOCATION:John Wesley Powell River History Museum\, Green River\, UT\, 84525\, United States
ORGANIZER;CN="John Wesley Powell River History Museum":MAILTO:jwpprograms@gmail.com
END:VEVENT
END:VCALENDAR